BEGIN:VCALENDAR
VERSION:2.0
PRODID:-//wp-events-plugin.com//7.2.3.1//EN
TZID:America/St_Johns
X-WR-TIMEZONE:America/St_Johns
BEGIN:VEVENT
UID:192@lewisporte.ca
DTSTART;TZID=America/St_Johns:20251023T173000
DTEND;TZID=America/St_Johns:20251023T203000
DTSTAMP:20251003T155448Z
URL:https://www.lewisporte.ca/events/trunk-or-treat-haunted-hike/
SUMMARY:Trunk or Treat / Haunted Hike
DESCRIPTION:
END:VEVENT
BEGIN:VTIMEZONE
TZID:America/St_Johns
X-LIC-LOCATION:America/St_Johns
BEGIN:DAYLIGHT
DTSTART:20250309T030000
TZOFFSETFROM:-0430
TZOFFSETTO:-0330
TZNAME:NDT
END:DAYLIGHT
END:VTIMEZONE
END:VCALENDAR