BEGIN:VCALENDAR
VERSION:2.0
PRODID:-//wp-events-plugin.com//7.2.3.1//EN
TZID:America/St_Johns
X-WR-TIMEZONE:America/St_Johns
BEGIN:VEVENT
UID:174@lewisporte.ca
DTSTART;TZID=America/St_Johns;VALUE=DATE:20250806
DTEND;TZID=America/St_Johns;VALUE=DATE:20250807
DTSTAMP:20250723T144434Z
URL:https://www.lewisporte.ca/events/pre-mussel-bed-events/
SUMMARY:Pre-Mussel Bed Events
DESCRIPTION:
CATEGORIES:Mussel Bed Soiree
END:VEVENT
BEGIN:VTIMEZONE
TZID:America/St_Johns
X-LIC-LOCATION:America/St_Johns
BEGIN:DAYLIGHT
DTSTART:20250309T030000
TZOFFSETFROM:-0430
TZOFFSETTO:-0330
TZNAME:NDT
END:DAYLIGHT
END:VTIMEZONE
END:VCALENDAR