BEGIN:VCALENDAR
VERSION:2.0
PRODID:-//wp-events-plugin.com//7.2.3.1//EN
TZID:America/St_Johns
X-WR-TIMEZONE:America/St_Johns
BEGIN:VEVENT
UID:112@lewisporte.ca
DTSTART;TZID=America/St_Johns:20240723T190000
DTEND;TZID=America/St_Johns:20240723T200000
DTSTAMP:20240709T183818Z
URL:https://www.lewisporte.ca/events/lewisporte-municipal-plan-and-develop
 ment-regulations-2024-2/
SUMMARY:Lewisporte Municipal Plan and Development Regulations 2024
DESCRIPTION:Open House and Public Meeting\nLewisporte Municipal Plan and De
 velopment Regulations 2024\nTuesday July 23\, 2024\, at 7:00 pm at the Tow
 n Hall\n\n\n\nResidents are invited to attend an open house and public hea
 ring on Tuesday July 23\, 2024\, at 7:0\n\n0 pm at the Town Hall about the
  Lewisporte Municipal Plan and Development Regulations 2024. The Town Coun
 cil of Lewisporte is reviewing its Municipal Plan and Development Re\n\ngu
 lations to address current and future development opportunities and challe
 nges over the next 10 years.\n\nA Municipal Plan is a policy framework gui
 ding Lewisporte’s growth. The Development Regulations establish standard
 s used to approve new buildings and development.\nThe current Lewisporte M
 unicipal Plan and Development Regulations came into effect in September 20
 05.  Since that time\, they have been amended to accommodate development 
 proposals and update standards. The existing Municipal Plan\, Development 
 Re\n\ngulations\, along with the amendments can be viewed on the Departmen
 t of Municipal and Provincial Affairs registry of land use plans. The regi
 stry also allows the future land use and zoning maps to be downloaded onto
  Google Earth https://www.gov.nl.ca/mpa/registry/community/lewisporte/\n\n
 Everyone is welcome.  Come to the open house and public meeting and share
  your input about the future of Lewisporte.\nWritten comments and input ma
 y also be submitted including requests to rezone land or descriptions of f
 uture projects or initiatives.
ATTACH;FMTTYPE=image/jpeg:https://www.lewisporte.ca/wp-content/uploads/202
 0/10/SEO-attractions.jpg
CATEGORIES:Public Works
LOCATION:Town Hall of Lewisporte\, 152 Main Street\, P. O. Box 219\, Lewisp
 orte\, NL\, A0G 3A0\, Canada
X-APPLE-STRUCTURED-LOCATION;VALUE=URI;X-ADDRESS=152 Main Street\, P. O. Box
  219\, Lewisporte\, NL\, A0G 3A0\, Canada;X-APPLE-RADIUS=100;X-TITLE=Town 
 Hall of Lewisporte:geo:0,0
END:VEVENT
BEGIN:VTIMEZONE
TZID:America/St_Johns
X-LIC-LOCATION:America/St_Johns
BEGIN:DAYLIGHT
DTSTART:20240310T030000
TZOFFSETFROM:-0430
TZOFFSETTO:-0330
TZNAME:NDT
END:DAYLIGHT
END:VTIMEZONE
END:VCALENDAR