BEGIN:VCALENDAR
VERSION:2.0
PRODID:-//wp-events-plugin.com//7.2.3.1//EN
TZID:America/St_Johns
X-WR-TIMEZONE:America/St_Johns
BEGIN:VEVENT
UID:29@lewisporte.ca
DTSTART;TZID=America/St_Johns;VALUE=DATE:20220915
DTEND;TZID=America/St_Johns;VALUE=DATE:20220918
DTSTAMP:20220912T130058Z
URL:https://www.lewisporte.ca/events/lewisporte-craft-and-trade-show/
SUMMARY:Lewisporte Craft and Trade Show
DESCRIPTION:*Children 12 and under are free and must be accompanied by an a
 dult
ATTACH;FMTTYPE=image/jpeg:https://www.lewisporte.ca/wp-content/uploads/202
 2/09/header-craftshow-1000x400-1-scaled.jpg
END:VEVENT
BEGIN:VTIMEZONE
TZID:America/St_Johns
X-LIC-LOCATION:America/St_Johns
BEGIN:DAYLIGHT
DTSTART:20220313T030000
TZOFFSETFROM:-0430
TZOFFSETTO:-0330
TZNAME:NDT
END:DAYLIGHT
END:VTIMEZONE
END:VCALENDAR