BEGIN:VCALENDAR
VERSION:2.0
PRODID:-//wp-events-plugin.com//7.2.3.1//EN
TZID:America/St_Johns
X-WR-TIMEZONE:America/St_Johns
BEGIN:VEVENT
UID:128@lewisporte.ca
DTSTART;TZID=America/St_Johns:20241001T000000
DTEND;TZID=America/St_Johns:20241028T000000
DTSTAMP:20241004T181544Z
URL:https://www.lewisporte.ca/events/its-showtime-youth-scavenger-hunt/
SUMMARY:It's Showtime! Youth Scavenger Hunt
DESCRIPTION:
ATTACH;FMTTYPE=image/jpeg:https://www.lewisporte.ca/wp-content/uploads/202
 4/10/Scavenger-Hunt.jpg
CATEGORIES:Special Event
END:VEVENT
BEGIN:VTIMEZONE
TZID:America/St_Johns
X-LIC-LOCATION:America/St_Johns
BEGIN:DAYLIGHT
DTSTART:20240310T030000
TZOFFSETFROM:-0430
TZOFFSETTO:-0330
TZNAME:NDT
END:DAYLIGHT
END:VTIMEZONE
END:VCALENDAR