BEGIN:VCALENDAR
VERSION:2.0
PRODID:-//wp-events-plugin.com//7.2.3.1//EN
TZID:America/St_Johns
X-WR-TIMEZONE:America/St_Johns
BEGIN:VEVENT
UID:20@lewisporte.ca
DTSTART;TZID=America/St_Johns:20191024T173000
DTEND;TZID=America/St_Johns:20191024T193000
DTSTAMP:20190905T134257Z
URL:https://www.lewisporte.ca/events/haunted-hike/
SUMMARY:Haunted Hike
DESCRIPTION:On October 24th\, the Town of Lewisporte will be hosting our si
 xth annual Haunted Hike. Last year our hike had approximately 300 particip
 ating. This year there will be 1 hike from 5:30 - 7:00 pm for all ages.\n\
 nLast year\, many of our haunted campsites were hosted by organizations\, 
 businesses\, school classes and volunteers who thoroughly enjoyed the expe
 rience. Once again we are looking for your participation to “host” a c
 ampsite. There isn't a fee for this but each participant is responsible fo
 r decorating their assigned campsite.\n\n
ATTACH;FMTTYPE=image/jpeg:https://www.lewisporte.ca/wp-content/uploads/201
 9/09/12.jpg
END:VEVENT
BEGIN:VTIMEZONE
TZID:America/St_Johns
X-LIC-LOCATION:America/St_Johns
BEGIN:DAYLIGHT
DTSTART:20190310T030000
TZOFFSETFROM:-0430
TZOFFSETTO:-0330
TZNAME:NDT
END:DAYLIGHT
END:VTIMEZONE
END:VCALENDAR