BEGIN:VCALENDAR
VERSION:2.0
PRODID:-//wp-events-plugin.com//7.2.3.1//EN
TZID:America/St_Johns
X-WR-TIMEZONE:America/St_Johns
BEGIN:VEVENT
UID:3@lewisporte.ca
DTSTART;TZID=America/St_Johns:20180815T190000
DTEND;TZID=America/St_Johns:20180815T190000
DTSTAMP:20180803T192343Z
URL:https://www.lewisporte.ca/events/hanns-point-players-present-the-islan
 ders/
SUMMARY:Hann’s Point Players Present: The Islanders
DESCRIPTION:\n 	  Lewisporte &amp\; Area Heritage Centre\n 	  Admission $
 40 (HST inc.)\n 	  Reservations required\n 	  Stuffed chicken breast or 
 salmon\, dessert and tea/coffee\n 	  Doors open at 6:30pm\n 	  For more
  information call 535-1911\n
CATEGORIES:Mussel Bed Soiree
LOCATION:Lewisporte & Area Heritage Centre\, 166A Main Street\, Lewisporte\
 , NL\, A0G 3A0\, Canada
X-APPLE-STRUCTURED-LOCATION;VALUE=URI;X-ADDRESS=166A Main Street\, Lewispor
 te\, NL\, A0G 3A0\, Canada;X-APPLE-RADIUS=100;X-TITLE=Lewisporte & Area He
 ritage Centre:geo:0,0
END:VEVENT
BEGIN:VTIMEZONE
TZID:America/St_Johns
X-LIC-LOCATION:America/St_Johns
BEGIN:DAYLIGHT
DTSTART:20180311T030000
TZOFFSETFROM:-0430
TZOFFSETTO:-0330
TZNAME:NDT
END:DAYLIGHT
END:VTIMEZONE
END:VCALENDAR