BEGIN:VCALENDAR
VERSION:2.0
PRODID:-//wp-events-plugin.com//7.2.3.1//EN
TZID:America/St_Johns
X-WR-TIMEZONE:America/St_Johns
BEGIN:VEVENT
UID:95@lewisporte.ca
DTSTART;TZID=America/St_Johns:20240414T130000
DTEND;TZID=America/St_Johns:20240414T135000
DTSTAMP:20240412T143834Z
URL:https://www.lewisporte.ca/events/free-family-skating-2/
SUMMARY:FREE Family Skating
DESCRIPTION:*Please be advised that times are subject to change. Cancellati
 on updates will be posted on our Facebook page.*\n*Helmets must be worn on
  the ice by ALL AGES*\n*Children under 12 must be accompanied by an adult*
CATEGORIES:Family Skating,Skating
LOCATION:Mike Austin Arena\, 20 Bowater Avenue\, Lewisporte\, Newfoundland/
 Labrador\, AOG 3AO\, Canada
X-APPLE-STRUCTURED-LOCATION;VALUE=URI;X-ADDRESS=20 Bowater Avenue\, Lewispo
 rte\, Newfoundland/Labrador\, AOG 3AO\, Canada;X-APPLE-RADIUS=100;X-TITLE=
 Mike Austin Arena:geo:0,0
END:VEVENT
BEGIN:VTIMEZONE
TZID:America/St_Johns
X-LIC-LOCATION:America/St_Johns
BEGIN:DAYLIGHT
DTSTART:20240310T030000
TZOFFSETFROM:-0430
TZOFFSETTO:-0330
TZNAME:NDT
END:DAYLIGHT
END:VTIMEZONE
END:VCALENDAR