BEGIN:VCALENDAR
VERSION:2.0
PRODID:-//wp-events-plugin.com//7.2.3.1//EN
TZID:America/St_Johns
X-WR-TIMEZONE:America/St_Johns
BEGIN:VEVENT
UID:167@lewisporte.ca
DTSTART;TZID=America/St_Johns:20250429T183000
DTEND;TZID=America/St_Johns:20250429T183000
DTSTAMP:20250328T153523Z
URL:https://www.lewisporte.ca/events/economic-development-forum/
SUMMARY:Economic Development Forum
DESCRIPTION:
CATEGORIES:Economic Development,Special Event
END:VEVENT
BEGIN:VTIMEZONE
TZID:America/St_Johns
X-LIC-LOCATION:America/St_Johns
BEGIN:DAYLIGHT
DTSTART:20250309T030000
TZOFFSETFROM:-0430
TZOFFSETTO:-0330
TZNAME:NDT
END:DAYLIGHT
END:VTIMEZONE
END:VCALENDAR